{"text_format":"1","workbook":"xlsx","n_sheets":1,"sheets":["Internet"],"not_rendered":{"charts":1,"images":2,"macros":0,"external_links":1,"defined_names":2,"comments":0,"pivot_tables":0},"unopened":[],"bounds":{"document_bytes":16777216,"sheet_cells":100000,"rows_first":2000,"rows_last":500,"rows_between":2000,"halvings":0,"cell_chars":16384,"cell_head_chars":4096},"cells_cut":0,"cells_raw":0,"read":"whole","date_system":"1900"}

{"sheet":"Internet","index":0,"n_rows":177,"n_cols":32,"rows_kept":177,"cut":false,"hidden":false,"merged":[[83,0,83,12],[15,4,15,5],[26,8,26,9],[28,8,28,9],[28,4,28,5],[26,4,26,5],[12,0,12,5],[11,11,12,11],[26,6,26,7],[28,6,28,7],[3,14,3,16],[5,0,5,12],[8,0,8,3],[9,0,9,3],[10,0,10,3],[11,10,12,10],[11,12,12,12],[8,8,10,10],[11,7,11,9],[12,7,12,9],[8,7,10,7],[8,11,10,11]]}
[]
[]
[]
[null,null,null,null,null,null,null,null,null,null,null,null,null,null,"Don't move!"]
[null,null,null,null,null,null,null,null,null,null,null,null,null,null,{"$f":"[1]!Valves","v":"Valves"},{"$f":"[1]!Elements","v":"Elements"},{"$f":"[1]!Setting","v":"Setting"},null,0,"Fixed","N",11,10,9,8,7,6,5,4,3,2,1]
["Technical information according to EN 215",null,null,null,null,null,null,null,null,null,null,null,null,null,{"$f":"[1]!Valves","v":"Select"},{"$f":"[1]!Elements","v":"Select"},{"$f":"[1]!Setting","v":"Select"},null,1,{"$f":"IF($F$10=\"Select\",\"-\",VLOOKUP($F$10,[1]N_Xp1!$C$5:$IV$999,Internet!$B$39,FALSE))","v":335},{"$f":"IF($F$10=\"Select\",\"-\",VLOOKUP($F$10,[1]N_Xp1!$C$5:$IV$999,Internet!$B$39,FALSE))","v":335},{"$f":"IF($F$10=\"Select\",\"-\",VLOOKUP($F$10,'[1]11_Xp1'!$C$5:$IV$999,Internet!$B$39,FALSE))","v":"-"},{"$f":"IF($F$10=\"Select\",\"-\",VLOOKUP($F$10,'[1]10_Xp1'!$C$5:$IV$999,Internet!$B$39,FALSE))","v":"-"},{"$f":"IF($F$10=\"Select\",\"-\",VLOOKUP($F$10,'[1]9_Xp1'!$C$5:$IV$999,Internet!$B$39,FALSE))","v":"-"},{"$f":"IF($F$10=\"Select\",\"-\",VLOOKUP($F$10,'[1]8_Xp1'!$C$5:$IV$999,Internet!$B$39,FALSE))","v":"-"},{"$f":"IF($F$10=\"Select\",\"-\",VLOOKUP($F$10,'[1]7_Xp1'!$C$5:$IV$999,Internet!$B$39,FALSE))","v":"-"},{"$f":"IF($F$10=\"Select\",\"-\",VLOOKUP($F$10,'[1]6_Xp1'!$C$5:$IV$999,Internet!$B$39,FALSE))","v":"-"},{"$f":"IF($F$10=\"Select\",\"-\",VLOOKUP($F$10,'[1]5_Xp1'!$C$5:$IV$999,Internet!$B$39,FALSE))","v":"-"},{"$f":"IF($F$10=\"Select\",\"-\",VLOOKUP($F$10,'[1]4_Xp1'!$C$5:$IV$999,Internet!$B$39,FALSE))","v":"-"},{"$f":"IF($F$10=\"Select\",\"-\",VLOOKUP($F$10,'[1]3_Xp1'!$C$5:$IV$999,Internet!$B$39,FALSE))","v":"-"},{"$f":"IF($F$10=\"Select\",\"-\",VLOOKUP($F$10,'[1]2_Xp1'!$C$5:$IV$999,Internet!$B$39,FALSE))","v":"-"},{"$f":"IF($F$10=\"Select\",\"-\",VLOOKUP($F$10,'[1]1_Xp1'!$C$5:$IV$999,Internet!$B$39,FALSE))","v":"-"}]
[null,null,null,null,null,null,null,null,null,null,null,null,null,null,{"$f":"[1]!Valves","v":"013G0001"},{"$f":"[1]!Elements","v":"013G2910"},{"$f":"[1]!Setting","v":"Fixed"},3,2,{"$f":"IF($F$10=\"Select\",\"-\",VLOOKUP($F$10,[1]N_Xp2!$C$5:$IV$999,Internet!$B$39,FALSE))","v":650},{"$f":"IF($F$10=\"Select\",\"-\",VLOOKUP($F$10,[1]N_Xp2!$C$5:$IV$999,Internet!$B$39,FALSE))","v":650},{"$f":"IF($F$10=\"Select\",\"-\",VLOOKUP($F$10,'[1]11_Xp2'!$C$5:$IV$999,Internet!$B$39,FALSE))","v":"-"},{"$f":"IF($F$10=\"Select\",\"-\",VLOOKUP($F$10,'[1]10_Xp2'!$C$5:$IV$999,Internet!$B$39,FALSE))","v":"-"},{"$f":"IF($F$10=\"Select\",\"-\",VLOOKUP($F$10,'[1]9_Xp2'!$C$5:$IV$999,Internet!$B$39,FALSE))","v":"-"},{"$f":"IF($F$10=\"Select\",\"-\",VLOOKUP($F$10,'[1]8_Xp2'!$C$5:$IV$999,Internet!$B$39,FALSE))","v":"-"},{"$f":"IF($F$10=\"Select\",\"-\",VLOOKUP($F$10,'[1]7_Xp2'!$C$5:$IV$999,Internet!$B$39,FALSE))","v":"-"},{"$f":"IF($F$10=\"Select\",\"-\",VLOOKUP($F$10,'[1]6_Xp2'!$C$5:$IV$999,Internet!$B$39,FALSE))","v":"-"},{"$f":"IF($F$10=\"Select\",\"-\",VLOOKUP($F$10,'[1]5_Xp2'!$C$5:$IV$999,Internet!$B$39,FALSE))","v":"-"},{"$f":"IF($F$10=\"Select\",\"-\",VLOOKUP($F$10,'[1]4_Xp2'!$C$5:$IV$999,Internet!$B$39,FALSE))","v":"-"},{"$f":"IF($F$10=\"Select\",\"-\",VLOOKUP($F$10,'[1]3_Xp2'!$C$5:$IV$999,Internet!$B$39,FALSE))","v":"-"},{"$f":"IF($F$10=\"Select\",\"-\",VLOOKUP($F$10,'[1]2_Xp2'!$C$5:$IV$999,Internet!$B$39,FALSE))","v":"-"},{"$f":"IF($F$10=\"Select\",\"-\",VLOOKUP($F$10,'[1]1_Xp2'!$C$5:$IV$999,Internet!$B$39,FALSE))","v":"-"}]
[null,null,null,null,null,null,null,null,null,null,null,null,null,null,{"$f":"[1]!Valves","v":"013G0002"},{"$f":"[1]!Elements","v":"013G2912"},{"$f":"[1]!Setting","v":"N"},3,3,{"$f":"IF($F$10=\"Select\",\"-\",VLOOKUP($F$10,[1]N_Xpmax!$C$5:$IV$999,Internet!$B$39,FALSE))","v":1205},{"$f":"IF($F$10=\"Select\",\"-\",VLOOKUP($F$10,[1]N_Xpmax!$C$5:$IV$999,Internet!$B$39,FALSE))","v":1205},{"$f":"IF($F$10=\"Select\",\"-\",VLOOKUP($F$10,'[1]11_Xpmax'!$C$5:$IV$999,Internet!$B$39,FALSE))","v":"-"},{"$f":"IF($F$10=\"Select\",\"-\",VLOOKUP($F$10,'[1]10_Xpmax'!$C$5:$IV$999,Internet!$B$39,FALSE))","v":"-"},{"$f":"IF($F$10=\"Select\",\"-\",VLOOKUP($F$10,'[1]9_Xpmax'!$C$5:$IV$999,Internet!$B$39,FALSE))","v":"-"},{"$f":"IF($F$10=\"Select\",\"-\",VLOOKUP($F$10,'[1]8_Xpmax'!$C$5:$IV$999,Internet!$B$39,FALSE))","v":"-"},{"$f":"IF($F$10=\"Select\",\"-\",VLOOKUP($F$10,'[1]7_Xpmax'!$C$5:$IV$999,Internet!$B$39,FALSE))","v":"-"},{"$f":"IF($F$10=\"Select\",\"-\",VLOOKUP($F$10,'[1]6_Xpmax'!$C$5:$IV$999,Internet!$B$39,FALSE))","v":"-"},{"$f":"IF($F$10=\"Select\",\"-\",VLOOKUP($F$10,'[1]5_Xpmax'!$C$5:$IV$999,Internet!$B$39,FALSE))","v":"-"},{"$f":"IF($F$10=\"Select\",\"-\",VLOOKUP($F$10,'[1]4_Xpmax'!$C$5:$IV$999,Internet!$B$39,FALSE))","v":"-"},{"$f":"IF($F$10=\"Select\",\"-\",VLOOKUP($F$10,'[1]3_Xpmax'!$C$5:$IV$999,Internet!$B$39,FALSE))","v":"-"},{"$f":"IF($F$10=\"Select\",\"-\",VLOOKUP($F$10,'[1]2_Xpmax'!$C$5:$IV$999,Internet!$B$39,FALSE))","v":"-"},{"$f":"IF($F$10=\"Select\",\"-\",VLOOKUP($F$10,'[1]1_Xpmax'!$C$5:$IV$999,Internet!$B$39,FALSE))","v":"-"}]
["1.  Select sensor code no. from drop down list",null,null,null,">>>>","013G2994",null,"EN 215: \n\n ","European Standard\nThermostatic radiator valve\nRequirements and test methods",null,null,"Keymark",null,null,{"$f":"[1]!Valves","v":"013G0003"},{"$f":"[1]!Elements","v":"013G2914"},{"$f":"[1]!Setting","v":11},{"$f":"R8+1","v":4},4,{"$f":"IF($F$10=\"Select\",\"-\",VLOOKUP($F$10,[1]N_Tol!$C$5:$IV$999,Internet!$B$39,FALSE))","v":10},{"$f":"IF($F$10=\"Select\",\"-\",VLOOKUP($F$10,[1]N_Tol!$C$5:$IV$999,Internet!$B$39,FALSE))","v":10},{"$f":"IF($F$10=\"Select\",\"-\",VLOOKUP($F$10,'[1]11_Tol'!$C$5:$IV$999,Internet!$B$39,FALSE))","v":"-"},{"$f":"IF($F$10=\"Select\",\"-\",VLOOKUP($F$10,'[1]10_Tol'!$C$5:$IV$999,Internet!$B$39,FALSE))","v":"-"},{"$f":"IF($F$10=\"Select\",\"-\",VLOOKUP($F$10,'[1]9_Tol'!$C$5:$IV$999,Internet!$B$39,FALSE))","v":"-"},{"$f":"IF($F$10=\"Select\",\"-\",VLOOKUP($F$10,'[1]8_Tol'!$C$5:$IV$999,Internet!$B$39,FALSE))","v":"-"},{"$f":"IF($F$10=\"Select\",\"-\",VLOOKUP($F$10,'[1]7_Tol'!$C$5:$IV$999,Internet!$B$39,FALSE))","v":"-"},{"$f":"IF($F$10=\"Select\",\"-\",VLOOKUP($F$10,'[1]6_Tol'!$C$5:$IV$999,Internet!$B$39,FALSE))","v":"-"},{"$f":"IF($F$10=\"Select\",\"-\",VLOOKUP($F$10,'[1]5_Tol'!$C$5:$IV$999,Internet!$B$39,FALSE))","v":"-"},{"$f":"IF($F$10=\"Select\",\"-\",VLOOKUP($F$10,'[1]4_Tol'!$C$5:$IV$999,Internet!$B$39,FALSE))","v":"-"},{"$f":"IF($F$10=\"Select\",\"-\",VLOOKUP($F$10,'[1]3_Tol'!$C$5:$IV$999,Internet!$B$39,FALSE))","v":"-"},{"$f":"IF($F$10=\"Select\",\"-\",VLOOKUP($F$10,'[1]2_Tol'!$C$5:$IV$999,Internet!$B$39,FALSE))","v":"-"},{"$f":"IF($F$10=\"Select\",\"-\",VLOOKUP($F$10,'[1]1_Tol'!$C$5:$IV$999,Internet!$B$39,FALSE))","v":"-"}]
["2.  Select valve code no. from drop down list",null,null,null,">>>>","013G1677",null,null,null,null,null,null,null,null,{"$f":"[1]!Valves","v":"013G0004"},{"$f":"[1]!Elements","v":"013G2916"},{"$f":"[1]!Setting","v":10},{"$f":"R9+1","v":5}]
["3.  Select presetting from drop down list",null,null,null,">>>>","Fixed",null,null,null,null,null,null,"027",null,{"$f":"[1]!Valves","v":"013G0005"},{"$f":"[1]!Elements","v":"013G2920"},{"$f":"[1]!Setting","v":9},6]
[null,null,null,null,null,null,null,null,null,null,null,null,null,null,{"$f":"[1]!Valves","v":"013G0006"},{"$f":"[1]!Elements","v":"013G2922"},{"$f":"[1]!Setting","v":8},{"$f":"R11+1","v":7},null,null,null,{"$f":"IF($F$11=\"Select\",\"-\",VLOOKUP(1,$S$5:$AF$9,VLOOKUP($F$11,$Q$7:$R$19,2,FALSE)))","v":335}]
[{"$f":"IF(AND($B$73=\"-\",AND(F9<>\"Select\",F10<>\"Select\")),\"This combination is not allowed/possible\",\"\")","v":""},null,null,null,null,null,null,null,null,null,null,null,null,null,{"$f":"[1]!Valves","v":"013G0011"},{"$f":"[1]!Elements","v":"013G2940"},{"$f":"[1]!Setting","v":7},8]
[null,null,null,null,null,null,null,null,null,null,null,null,null,null,{"$f":"[1]!Valves","v":"013G0012"},{"$f":"[1]!Elements","v":"013G2970"},{"$f":"[1]!Setting","v":6},9]
["Selected sensor",null,null,null,null,null,null,"Selected valve",null,null,null,null,null,null,{"$f":"[1]!Valves","v":"013G0013"},{"$f":"[1]!Elements","v":"013G2972"},{"$f":"[1]!Setting","v":5},10]
["Type","Sensor",null,null,"Opening temperature [°C]",null,null,"Type","Presetting","Dimension","Design",null,"Series",null,{"$f":"[1]!Valves","v":"013G0014"},{"$f":"[1]!Elements","v":"013G2977"},{"$f":"[1]!Setting","v":4},11]
[null,null,null,null,"Ý","Max",null,null,null,null,null,null,null,null,{"$f":"[1]!Valves","v":"013G0015"},{"$f":"[1]!Elements","v":"013G2978"},{"$f":"[1]!Setting","v":3},12]
[{"$f":"IF($F$9=\"select\",\"-\",VLOOKUP($F$9,[1]Codes!$J$6:$O$1000,3,FALSE))","v":"RA 2000"},{"$f":"IF($F$9=\"select\",\"-\",VLOOKUP($F$9,[1]Codes!$J$6:$O$1000,4,FALSE))","v":"Built-in sensor"},null,null,{"$f":"IF($F$9=\"select\",\"-\",VLOOKUP($F$9,[1]Codes!$J$6:$O$1000,5,FALSE))","v":7},{"$f":"IF($F$9=\"select\",\"-\",VLOOKUP($F$9,[1]Codes!$J$6:$O$1000,6,FALSE))","v":28},null,{"$f":"IF($F$10=\"select\",\"-\",VLOOKUP($F$10,[1]Codes!$B$6:$G$1000,3,FALSE))","v":"RA-G"},{"$f":"IF($F$10=\"select\",\"-\",VLOOKUP($F$10,[1]Codes!$B$6:$H$1000,7,FALSE))","v":"No"},{"$f":"IF($F$10=\"select\",\"-\",VLOOKUP($F$10,[1]Codes!$B$6:$G$1000,4,FALSE))","v":"DN20"},{"$f":"IF($F$10=\"select\",\"-\",VLOOKUP($F$10,[1]Codes!$B$6:$G$1000,5,FALSE))","v":"Straight"},null,{"$f":"IF($F$10=\"select\",\"-\",VLOOKUP($F$10,[1]Codes!$B$6:$G$1000,6,FALSE))","v":"D"},null,{"$f":"[1]!Valves","v":"013G0016"},{"$f":"[1]!Elements","v":"013G2980"},{"$f":"[1]!Setting","v":2},13]
[null,null,null,null,null,null,null,null,null,null,null,null,null,null,{"$f":"[1]!Valves","v":"013G0021"},{"$f":"[1]!Elements","v":"013G2982"},{"$f":"[1]!Setting","v":1},14]
[null,null,null,null,null,null,null,null,null,null,null,null,null,null,{"$f":"[1]!Valves","v":"013G0022"},{"$f":"[1]!Elements","v":"013G2990"}]
[null,null,null,null,null,null,null,null,null,null,null,null,null,null,{"$f":"[1]!Valves","v":"013G0023"},{"$f":"[1]!Elements","v":"013G2991"}]
[null,"Diagram for the differential pressure as function of the flow rate for selected presetting",null,null,null,null,null,null,null,null,null,null,null,null,{"$f":"[1]!Valves","v":"013G0024"},{"$f":"[1]!Elements","v":"013G2992"}]
[null,null,null,null,null,null,null,null,null,null,null,null,null,null,{"$f":"[1]!Valves","v":"013G0025"},{"$f":"[1]!Elements","v":"013G2994"}]
[null,null,null,null,null,null,null,null,null,null,null,null,null,null,{"$f":"[1]!Valves","v":"013G0026"},{"$f":"[1]!Elements","v":"013G5010"}]
[null,null,null,null,null,null,null,null,null,null,null,null,null,null,{"$f":"[1]!Valves","v":"013G0027"},{"$f":"[1]!Elements","v":"013G5012"}]
[null,null,null,null,null,null,null,null,null,null,null,null,null,null,{"$f":"[1]!Valves","v":"013G0028"},{"$f":"[1]!Elements","v":"013G5013"}]
[null,null,null,"Kv=",{"$f":"C63/SQRT(0.1)/1000","v":1.0593630161564069},null,{"$f":"C64/SQRT(0.1)/1000","v":2.0554804791094465},null,{"$f":"C65/SQRT(0.1)/1000","v":3.810544580502897},null,null,null,null,null,{"$f":"[1]!Valves","v":"013G0031"},{"$f":"[1]!Elements","v":"013G5014"}]
[null,0.1,{"$f":"SQRT(B28)","v":0.31622776601683794},null,"Q (kg/h)","p (bar)","Q (kg/h)","p (bar)","Q (kg/h)","p (bar)",null,null,null,null,{"$f":"[1]!Valves","v":"013G0032"},{"$f":"[1]!Elements","v":"013G5016"}]
[null,359,null,null,{"$f":"C32","v":1},null,{"$f":"C33","v":2},null,{"$f":"C34","v":"Max"},null,null,null,null,null,{"$f":"[1]!Valves","v":"013G0033"},{"$f":"[1]!Elements","v":"013G5022"}]
[null,null,null,null,{"$f":"IF(ISNUMBER($E$27)=FALSE,0.1,$E$27*SQRT(F30)*1000)","v":105.9363016156407},0.01,{"$f":"IF(ISNUMBER($G$27)=FALSE,0.1,$G$27*SQRT(H30)*1000)","v":205.54804791094466},0.01,{"$f":"IF(ISNUMBER($I$27)=FALSE,0.1,$I$27*SQRT(J30)*1000)","v":381.05445805028972},0.01,null,null,null,null,{"$f":"[1]!Valves","v":"013G0034"},{"$f":"[1]!Elements","v":"013G5023"}]
[null,null,null,null,{"$f":"IF(ISNUMBER($E$27)=FALSE,0.1,$E$27*SQRT(F31)*1000)","v":149.81655449248586},0.02,{"$f":"IF(ISNUMBER($G$27)=FALSE,0.1,$G$27*SQRT(H31)*1000)","v":290.6888370749727},0.02,{"$f":"IF(ISNUMBER($I$27)=FALSE,0.1,$I$27*SQRT(J31)*1000)","v":538.89238257744933},0.02,null,null,null,null,{"$f":"[1]!Valves","v":"013G0035"},{"$f":"[1]!Elements","v":"013G5040"}]
[null,"Xp",1,null,183.48705676423063,0.03,356.01966237835796,0.03,660.00568179372522,0.03,null,null,null,null,{"$f":"[1]!Valves","v":"013G0036"},{"$f":"[1]!Elements","v":"013G5041"}]
[null,"Xp",2,null,211.8726032312814,0.04,411.09609582188932,0.04,762.10891610057945,0.04,null,null,null,null,{"$f":"[1]!Valves","v":"013G0037"},{"$f":"[1]!Elements","v":"013G5054"}]
[null,"Xp","Max",null,236.88077169749337,0.05,459.61940777125585,0.05,852.06367132978983,0.05,null,null,null,null,{"$f":"[1]!Valves","v":"013G0038"},{"$f":"[1]!Elements","v":"013G5056"}]
[null,null,null,null,259.48988419589688,0.06,503.48783500696413,0.06,933.38898643598748,0.06,null,null,null,null,{"$f":"[1]!Valves","v":"013G0051"},{"$f":"[1]!Elements","v":"013G5062"}]
[null,null,null,null,280.2811088889153,7.0000000000000007E-2,543.82901724714918,7.0000000000000007E-2,1008.1753319735611,7.0000000000000007E-2,null,null,null,null,{"$f":"[1]!Valves","v":"013G0052"},{"$f":"[1]!Elements","v":"013G5065"}]
[null,null,null,null,299.63310898497173,0.08,581.37767414994539,0.08,1077.7847651548987,0.08,null,null,null,null,{"$f":"[1]!Valves","v":"013G0053"},{"$f":"[1]!Elements","v":"013G5068"}]
[null,{"$f":"VLOOKUP($F$10,[1]Codes!$B$6:$C$1000,2,FALSE)","v":69},null,null,317.80890484692208,0.09,616.64414373283398,0.09,1143.163374150869,0.09,null,null,null,null,{"$f":"[1]!Valves","v":"013G0054"},{"$f":"[1]!Elements","v":"013G5071"}]
[null,{"$f":"VLOOKUP($F$9,[1]Codes!$J$6:$K$1000,2,FALSE)","v":18},null,null,334.99999999999994,0.1,650,0.1,1205,0.1,null,null,null,null,{"$f":"[1]!Valves","v":"013G0055"},{"$f":"[1]!Elements","v":"013G5110"}]
[null,null,null,null,null,null,null,null,null,null,null,null,null,null,{"$f":"[1]!Valves","v":"013G0056"},{"$f":"[1]!Elements","v":"013G5115"}]
[null,null,null,null,null,null,null,null,null,null,null,null,null,null,{"$f":"[1]!Valves","v":"013G0071"},{"$f":"[1]!Elements","v":"013G5120"}]
[null,null,null,null,null,null,null,null,null,null,null,null,null,null,{"$f":"[1]!Valves","v":"013G0072"},{"$f":"[1]!Elements","v":"013G5126"}]
[null,null,null,null,null,null,null,null,null,null,null,null,null,null,{"$f":"[1]!Valves","v":"013G0073"},{"$f":"[1]!Elements","v":"013G5153"}]
[null,null,null,null,null,null,null,null,null,null,null,null,null,null,{"$f":"[1]!Valves","v":"013G0074"},{"$f":"[1]!Elements","v":"013G5154"}]
[null,null,null,null,null,null,null,null,null,null,null,null,null,null,{"$f":"[1]!Valves","v":"013G0075"},{"$f":"[1]!Elements","v":"013G5171"}]
[null,null,null,null,null,null,null,null,null,null,null,null,null,null,{"$f":"[1]!Valves","v":"013G0076"},{"$f":"[1]!Elements","v":"013G5921"}]
[null,null,null,null,null,null,null,null,null,null,null,null,null,null,{"$f":"[1]!Valves","v":"013G0084"},{"$f":"[1]!Elements","v":"013G5922"}]
[null,null,null,null,null,null,null,null,null,null,null,null,null,null,{"$f":"[1]!Valves","v":"013G0113"},{"$f":"[1]!Elements","v":"013G5923"}]
[null,null,null,null,null,null,null,null,null,null,null,null,null,null,{"$f":"[1]!Valves","v":"013G0114"},{"$f":"[1]!Elements","v":"013G6040"}]
[null,null,null,null,null,null,null,null,null,null,null,null,null,null,{"$f":"[1]!Valves","v":"013G0115"},{"$f":"[1]!Elements","v":"013G6041"}]
[null,null,null,null,null,null,null,null,null,null,null,null,null,null,{"$f":"[1]!Valves","v":"013G0116"},{"$f":"[1]!Elements","v":"013G7080"}]
[null,null,null,null,null,null,null,null,null,null,null,null,null,null,{"$f":"[1]!Valves","v":"013G0117"},{"$f":"[1]!Elements","v":"013G7081"}]
[null,null,null,null,null,null,null,null,null,null,null,null,null,null,{"$f":"[1]!Valves","v":"013G0141"},{"$f":"[1]!Elements","v":"013G7082"}]
[null,null,null,null,null,null,null,null,null,null,null,null,null,null,{"$f":"[1]!Valves","v":"013G0143"},{"$f":"[1]!Elements","v":"013G7090"}]
[null,null,null,null,null,null,null,null,null,null,null,null,null,null,{"$f":"[1]!Valves","v":"013G0145"},{"$f":"[1]!Elements","v":"013G7091"}]
[null,null,null,null,null,null,null,null,null,null,null,null,null,null,{"$f":"[1]!Valves","v":"013G0149"},{"$f":"[1]!Elements","v":"013G7092"}]
[null,null,null,null,null,null,null,null,null,null,null,null,null,null,{"$f":"[1]!Valves","v":"013G0151"},{"$f":"[1]!Elements","v":"013G7094"}]
["Flow rate for selected presetting",null,null,null,null,null,"General information for selected products",null,null,null,null,null,null,null,{"$f":"[1]!Valves","v":"013G0153"},{"$f":"[1]!Elements","v":"013G7096"}]
["Presetting","Xp","Flow","Authority","Flow",null,"Maximum","Water","Maximum","Maximum","Differential","Hysteresis","Response",null,{"$f":"[1]!Valves","v":"013G0155"},{"$f":"[1]!Elements","v":"013G7110"}]
[null,null,"rate",null,"tolerance",null,"water","temperature","working","differential","pressure",null," time",null,{"$f":"[1]!Valves","v":"013G0231"},{"$f":"[1]!Elements","v":"013G7113"}]
[null,null,"Q",null,null,null,"temperature","influence"," pressure","pressure","influence",null,null,null,{"$f":"[1]!Valves","v":"013G0232"},{"$f":"[1]!Elements","v":"RTN51"}]
[null,"[K]","[kg/h]",null,"± [%]",null,"[°C]","[K]","[bar]","[bar]","[K]","[K]","[Minutes]",null,{"$f":"[1]!Valves","v":"013G0233"},{"$f":"[1]!Elements","v":"RTN51G"}]
[null,1,{"$f":"IF(OR($F$9=\"select\",$F$10=\"select\",$F$11=\"select\"),\"-\",VLOOKUP(1,$S$5:$AF$9,VLOOKUP($F$11,$Q$7:$R$19,2,FALSE)))","v":335},{"$f":"IF(OR(C63=\"-\",C64=\"-\",C65=\"-\"),\"-\",1-C63^2/C65^2)","v":0.92271138582324685},"-",null,null,null,null,null,null,null,null,null,{"$f":"[1]!Valves","v":"013G0234"},{"$f":"[1]!Elements","v":"RTN51GB"}]
[{"$f":"IF($F$11=\"select\",\"-\",F11)","v":"Fixed"},2,{"$f":"IF(OR($F$9=\"select\",$F$10=\"select\",$F$11=\"select\"),\"-\",VLOOKUP(2,$S$5:$AF$9,VLOOKUP($F$11,$Q$7:$R$19,2,FALSE)))","v":650},{"$f":"IF(OR(C63=\"-\",C64=\"-\",C65=\"-\"),\"-\",1-C64^2/C65^2)","v":0.70902704843236175},{"$f":"IF(OR($F$9=\"select\",$F$10=\"select\",$F$11=\"select\"),\"-\",VLOOKUP(4,$S$5:$AF$9,VLOOKUP($F$11,$Q$7:$R$19,2,FALSE)))","v":10},null,{"$f":"IF(OR(C63=\"-\",C64=\"-\"),\"-\",VLOOKUP($F$10,[1]Temp!C5:IV999,Internet!$B$39,FALSE))","v":120},{"$f":"IF(OR(C63=\"-\",C64=\"-\"),\"-\",VLOOKUP($F$10,[1]FTA!C5:IV999,Internet!$B$39,FALSE))","v":0.6},{"$f":"IF(OR(C63=\"-\",C64=\"-\"),\"-\",VLOOKUP($F$10,[1]Max_P!C5:IV999,Internet!$B$39,FALSE))","v":16},{"$f":"IF(OR(C63=\"-\",C64=\"-\"),\"-\",VLOOKUP($F$10,[1]Max_DP!C5:IV999,Internet!$B$39,FALSE))","v":0.2},{"$f":"IF(OR(C63=\"-\",C64=\"-\"),\"-\",VLOOKUP($F$10,[1]DPI!C5:IV999,Internet!$B$39,FALSE))","v":0.7},{"$f":"IF(OR(C63=\"-\",C64=\"-\"),\"-\",VLOOKUP($F$10,[1]Hysteresis!C5:IV999,Internet!$B$39,FALSE))","v":0.8},{"$f":"IF(OR(C63=\"-\",C64=\"-\"),\"-\",VLOOKUP($F$10,[1]Response!C5:IV999,Internet!$B$39,FALSE))","v":12},null,{"$f":"[1]!Valves","v":"013G0360"},{"$f":"[1]!Elements","v":"RTN71"}]
[null,"Max",{"$f":"IF(OR($F$9=\"select\",$F$10=\"select\",$F$11=\"select\"),\"-\",VLOOKUP(3,$S$5:$AF$9,VLOOKUP($F$11,$Q$7:$R$19,2,FALSE)))","v":1205},"-","-",null,null,null,null,null,null,null,null,null,{"$f":"[1]!Valves","v":"013G0372"},{"$f":"[1]!Elements","v":"RTN81"}]
["Flow rate at differential pressure of 0,1 bar",null,null,null,null,null,null,null,null,null,null,null,null,null,{"$f":"[1]!Valves","v":"013G0380"},{"$f":"[1]!Elements","v":"End list"}]
[null,null,null,null,null,null,null,null,null,null,null,null,null,null,{"$f":"[1]!Valves","v":"013G1011"}]
[null,null,null,null,null,null,null,null,null,null,null,null,null,null,{"$f":"[1]!Valves","v":"013G1012"}]
[null,null,null,null,null,null,null,null,null,null,null,null,null,null,{"$f":"[1]!Valves","v":"013G1013"}]
["Flow rate for all presettings",null,null,null,null,null,null,null,null,null,null,null,null,null,{"$f":"[1]!Valves","v":"013G1014"}]
["Presetting","N/Fixed",11,10,9,8,7,6,5,4,3,2,1,null,{"$f":"[1]!Valves","v":"013G1382"}]
["Xp1",{"$f":"U6","v":335},{"$f":"V6","v":"-"},"-","-","-","-","-","-","-","-","-","-",null,{"$f":"[1]!Valves","v":"013G1675"}]
["Xp2",{"$f":"U7","v":650},"-","-","-","-","-","-","-","-","-","-","-",null,{"$f":"[1]!Valves","v":"013G1676"}]
["Xp Max",{"$f":"U8","v":1205},"-","-","-","-","-","-","-","-","-","-","-",null,{"$f":"[1]!Valves","v":"013G1677"}]
["Tol. (Xp2) ± [%]",{"$f":"U9","v":10},"-","-","-","-","-","-","-","-","-","-","-",null,{"$f":"[1]!Valves","v":"013G1678"}]
["Flow rate at differential pressure of 0,1 bar",null,null,null,null,null,null,null,null,null,null,null,null,null,{"$f":"[1]!Valves","v":"013G1679"}]
[null,null,null,null,null,null,null,null,null,null,null,null,null,null,{"$f":"[1]!Valves","v":"013G1680"}]
[null,null,null,null,null,null,null,null,null,null,null,null,null,null,{"$f":"[1]!Valves","v":"013G3011"}]
[null,null,null,null,null,null,null,null,null,null,null,null,null,null,{"$f":"[1]!Valves","v":"013G3013"}]
[null,null,null,null,null,null,null,null,null,null,null,null,null,null,{"$f":"[1]!Valves","v":"013G3015"}]
[null,null,null,null,null,null,null,null,null,null,null,null,null,null,{"$f":"[1]!Valves","v":"013G3022"}]
[null,null,null,null,null,null,null,null,null,null,null,null,null,null,{"$f":"[1]!Valves","v":"013G3031"}]
[null,null,null,null,null,null,null,null,null,null,null,null,null,null,{"$f":"[1]!Valves","v":"013G3033"}]
["© Danfoss  06/2017",null,null,null,null,null,null,null,null,null,null,null,null,null,{"$f":"[1]!Valves","v":"013G3237"}]
[null,null,null,null,null,null,null,null,null,null,null,null,null,null,{"$f":"[1]!Valves","v":"013G3238"}]
[null,null,null,null,null,null,null,null,null,null,null,null,null,null,{"$f":"[1]!Valves","v":"013G3239"}]
[null,null,null,null,null,null,null,null,null,null,null,null,null,null,{"$f":"[1]!Valves","v":"013G3301"}]
[null,null,null,null,null,null,null,null,null,null,null,null,null,null,{"$f":"[1]!Valves","v":"013G3902"}]
[null,null,null,null,null,null,null,null,null,null,null,null,null,null,{"$f":"[1]!Valves","v":"013G3903"}]
[null,null,null,null,null,null,null,null,null,null,null,null,null,null,{"$f":"[1]!Valves","v":"013G3904"}]
[null,null,null,null,null,null,null,null,null,null,null,null,null,null,{"$f":"[1]!Valves","v":"013G3912"}]
[null,null,null,null,null,null,null,null,null,null,null,null,null,null,{"$f":"[1]!Valves","v":"013G3913"}]
[null,null,null,null,null,null,null,null,null,null,null,null,null,null,{"$f":"[1]!Valves","v":"013G3914"}]
[null,null,null,null,null,null,null,null,null,null,null,null,null,null,{"$f":"[1]!Valves","v":"013G4021"}]
[null,null,null,null,null,null,null,null,null,null,null,null,null,null,{"$f":"[1]!Valves","v":"013G4022"}]
[null,null,null,null,null,null,null,null,null,null,null,null,null,null,{"$f":"[1]!Valves","v":"013G4201"}]
[null,null,null,null,null,null,null,null,null,null,null,null,null,null,{"$f":"[1]!Valves","v":"013G4202"}]
[null,null,null,null,null,null,null,null,null,null,null,null,null,null,{"$f":"[1]!Valves","v":"013G4203"}]
[null,null,null,null,null,null,null,null,null,null,null,null,null,null,{"$f":"[1]!Valves","v":"013G4204"}]
[null,null,null,null,null,null,null,null,null,null,null,null,null,null,{"$f":"[1]!Valves","v":"013G4205"}]
[null,null,null,null,null,null,null,null,null,null,null,null,null,null,{"$f":"[1]!Valves","v":"013G4218"}]
[null,null,null,null,null,null,null,null,null,null,null,null,null,null,{"$f":"[1]!Valves","v":"013G4237"}]
[null,null,null,null,null,null,null,null,null,null,null,null,null,null,{"$f":"[1]!Valves","v":"013G4238"}]
[null,null,null,null,null,null,null,null,null,null,null,null,null,null,{"$f":"[1]!Valves","v":"013G4239"}]
[null,null,null,null,null,null,null,null,null,null,null,null,null,null,{"$f":"[1]!Valves","v":"013G4240"}]
[null,null,null,null,null,null,null,null,null,null,null,null,null,null,{"$f":"[1]!Valves","v":"013G4247"}]
[null,null,null,null,null,null,null,null,null,null,null,null,null,null,{"$f":"[1]!Valves","v":"013G4248"}]
[null,null,null,null,null,null,null,null,null,null,null,null,null,null,{"$f":"[1]!Valves","v":"013G6281"}]
[null,null,null,null,null,null,null,null,null,null,null,null,null,null,{"$f":"[1]!Valves","v":"013G6282"}]
[null,null,null,null,null,null,null,null,null,null,null,null,null,null,{"$f":"[1]!Valves","v":"013G6283"}]
[null,null,null,null,null,null,null,null,null,null,null,null,null,null,{"$f":"[1]!Valves","v":"013G6284"}]
[null,null,null,null,null,null,null,null,null,null,null,null,null,null,{"$f":"[1]!Valves","v":"013G6285"}]
[null,null,null,null,null,null,null,null,null,null,null,null,null,null,{"$f":"[1]!Valves","v":"013G6286"}]
[null,null,null,null,null,null,null,null,null,null,null,null,null,null,{"$f":"[1]!Valves","v":"013G6804"}]
[null,null,null,null,null,null,null,null,null,null,null,null,null,null,{"$f":"[1]!Valves","v":"013G6805"}]
[null,null,null,null,null,null,null,null,null,null,null,null,null,null,{"$f":"[1]!Valves","v":"013G6806"}]
[null,null,null,null,null,null,null,null,null,null,null,null,null,null,{"$f":"[1]!Valves","v":"013G6807"}]
[null,null,null,null,null,null,null,null,null,null,null,null,null,null,{"$f":"[1]!Valves","v":"013G6814"}]
[null,null,null,null,null,null,null,null,null,null,null,null,null,null,{"$f":"[1]!Valves","v":"013G7003"}]
[null,null,null,null,null,null,null,null,null,null,null,null,null,null,{"$f":"[1]!Valves","v":"013G7004"}]
[null,null,null,null,null,null,null,null,null,null,null,null,null,null,{"$f":"[1]!Valves","v":"013G7005"}]
[null,null,null,null,null,null,null,null,null,null,null,null,null,null,{"$f":"[1]!Valves","v":"013G7006"}]
[null,null,null,null,null,null,null,null,null,null,null,null,null,null,{"$f":"[1]!Valves","v":"013G7008"}]
[null,null,null,null,null,null,null,null,null,null,null,null,null,null,{"$f":"[1]!Valves","v":"013G7009"}]
[null,null,null,null,null,null,null,null,null,null,null,null,null,null,{"$f":"[1]!Valves","v":"013G7013"}]
[null,null,null,null,null,null,null,null,null,null,null,null,null,null,{"$f":"[1]!Valves","v":"013G7014"}]
[null,null,null,null,null,null,null,null,null,null,null,null,null,null,{"$f":"[1]!Valves","v":"013G7015"}]
[null,null,null,null,null,null,null,null,null,null,null,null,null,null,{"$f":"[1]!Valves","v":"013G7016"}]
[null,null,null,null,null,null,null,null,null,null,null,null,null,null,{"$f":"[1]!Valves","v":"013G7017"}]
[null,null,null,null,null,null,null,null,null,null,null,null,null,null,{"$f":"[1]!Valves","v":"013G7018"}]
[null,null,null,null,null,null,null,null,null,null,null,null,null,null,{"$f":"[1]!Valves","v":"013G7021"}]
[null,null,null,null,null,null,null,null,null,null,null,null,null,null,{"$f":"[1]!Valves","v":"013G7022"}]
[null,null,null,null,null,null,null,null,null,null,null,null,null,null,{"$f":"[1]!Valves","v":"013G7023"}]
[null,null,null,null,null,null,null,null,null,null,null,null,null,null,{"$f":"[1]!Valves","v":"013G7024"}]
[null,null,null,null,null,null,null,null,null,null,null,null,null,null,{"$f":"[1]!Valves","v":"013G7025"}]
[null,null,null,null,null,null,null,null,null,null,null,null,null,null,{"$f":"[1]!Valves","v":"013G7026"}]
[null,null,null,null,null,null,null,null,null,null,null,null,null,null,{"$f":"[1]!Valves","v":"013G7027"}]
[null,null,null,null,null,null,null,null,null,null,null,null,null,null,{"$f":"[1]!Valves","v":"013G7028"}]
[null,null,null,null,null,null,null,null,null,null,null,null,null,null,{"$f":"[1]!Valves","v":"013G7048"}]
[null,null,null,null,null,null,null,null,null,null,null,null,null,null,{"$f":"[1]!Valves","v":"013G7049"}]
[null,null,null,null,null,null,null,null,null,null,null,null,null,null,{"$f":"[1]!Valves","v":"013G7709"}]
[null,null,null,null,null,null,null,null,null,null,null,null,null,null,{"$f":"[1]!Valves","v":"013G7710"}]
[null,null,null,null,null,null,null,null,null,null,null,null,null,null,{"$f":"[1]!Valves","v":"013G7711"}]
[null,null,null,null,null,null,null,null,null,null,null,null,null,null,{"$f":"[1]!Valves","v":"013G7712"}]
[null,null,null,null,null,null,null,null,null,null,null,null,null,null,{"$f":"[1]!Valves","v":"013G7713"}]
[null,null,null,null,null,null,null,null,null,null,null,null,null,null,{"$f":"[1]!Valves","v":"013G7714"}]
[null,null,null,null,null,null,null,null,null,null,null,null,null,null,{"$f":"[1]!Valves","v":"013G7715"}]
[null,null,null,null,null,null,null,null,null,null,null,null,null,null,{"$f":"[1]!Valves","v":"013G7716"}]
[null,null,null,null,null,null,null,null,null,null,null,null,null,null,{"$f":"[1]!Valves","v":"013G7717"}]
[null,null,null,null,null,null,null,null,null,null,null,null,null,null,{"$f":"[1]!Valves","v":"013G7718"}]
[null,null,null,null,null,null,null,null,null,null,null,null,null,null,{"$f":"[1]!Valves","v":"013G7719"}]
[null,null,null,null,null,null,null,null,null,null,null,null,null,null,{"$f":"[1]!Valves","v":"013G7720"}]
[null,null,null,null,null,null,null,null,null,null,null,null,null,null,{"$f":"[1]!Valves","v":"013G7721"}]
[null,null,null,null,null,null,null,null,null,null,null,null,null,null,{"$f":"[1]!Valves","v":"013G7722"}]
[null,null,null,null,null,null,null,null,null,null,null,null,null,null,{"$f":"[1]!Valves","v":"013G7723"}]
[null,null,null,null,null,null,null,null,null,null,null,null,null,null,{"$f":"[1]!Valves","v":"013G7724"}]
[null,null,null,null,null,null,null,null,null,null,null,null,null,null,{"$f":"[1]!Valves","v":"013G7725"}]
[null,null,null,null,null,null,null,null,null,null,null,null,null,null,{"$f":"[1]!Valves","v":"013G7726"}]
[null,null,null,null,null,null,null,null,null,null,null,null,null,null,{"$f":"[1]!Valves","v":"013L3121"}]
[null,null,null,null,null,null,null,null,null,null,null,null,null,null,{"$f":"[1]!Valves","v":"013L3123"}]
[null,null,null,null,null,null,null,null,null,null,null,null,null,null,{"$f":"[1]!Valves","v":"013L3133"}]
[null,null,null,null,null,null,null,null,null,null,null,null,null,null,{"$f":"[1]!Valves","v":"VDN110"}]
[null,null,null,null,null,null,null,null,null,null,null,null,null,null,{"$f":"[1]!Valves","v":"VDN115"}]
[null,null,null,null,null,null,null,null,null,null,null,null,null,null,{"$f":"[1]!Valves","v":"VDN120"}]
[null,null,null,null,null,null,null,null,null,null,null,null,null,null,{"$f":"[1]!Valves","v":"VDN210"}]
[null,null,null,null,null,null,null,null,null,null,null,null,null,null,{"$f":"[1]!Valves","v":"VDN215"}]
[null,null,null,null,null,null,null,null,null,null,null,null,null,null,{"$f":"[1]!Valves","v":"VDN220"}]
[null,null,null,null,null,null,null,null,null,null,null,null,null,null,{"$f":"[1]!Valves","v":"VEN110"}]
[null,null,null,null,null,null,null,null,null,null,null,null,null,null,{"$f":"[1]!Valves","v":"VEN115"}]
[null,null,null,null,null,null,null,null,null,null,null,null,null,null,{"$f":"[1]!Valves","v":"VEN115GB"}]
[null,null,null,null,null,null,null,null,null,null,null,null,null,null,{"$f":"[1]!Valves","v":"VEN120"}]
[null,null,null,null,null,null,null,null,null,null,null,null,null,null,{"$f":"[1]!Valves","v":"VEN210"}]
[null,null,null,null,null,null,null,null,null,null,null,null,null,null,{"$f":"[1]!Valves","v":"VEN215"}]
[null,null,null,null,null,null,null,null,null,null,null,null,null,null,{"$f":"[1]!Valves","v":"VEN220"}]
[null,null,null,null,null,null,null,null,null,null,null,null,null,null,{"$f":"[1]!Valves","v":"VUN210"}]
[null,null,null,null,null,null,null,null,null,null,null,null,null,null,{"$f":"[1]!Valves","v":"VUN215"}]
[null,null,null,null,null,null,null,null,null,null,null,null,null,null,{"$f":"[1]!Valves","v":"End list"}]